BEGIN:VCALENDAR
VERSION:2.0
PRODID:-//wp-events-plugin.com//7.2.3.1//EN
BEGIN:VEVENT
UID:292@wg-einheit.de
DTSTART;TZID=Europe/Berlin:20260521T140000
DTEND;TZID=Europe/Berlin:20260521T170000
DTSTAMP:20260409T064215Z
URL:https://wg-einheit.de/en/veranstaltungen/spielenachmittag-2/
SUMMARY:Spielenachmittag
DESCRIPTION:Auch heute findet wieder der Senioren-Spielenachmittag im Treff
 punkt "ANNA" statt.\n\nBei diesem gemütlichen Treffen haben alle die Mög
 lichkeit\, in entspannter Atmosphäre verschiedene Gesellschaftsspiele aus
 zuprobieren und gemeinsam eine gute Zeit zu verbringen.\n\nEgal ob Rommé\
 , Halma oder Rausschmeißer – hier kommt jeder auf seine Kosten. Kommt g
 ern vorbei!
ATTACH;FMTTYPE=image/jpeg:https://wg-einheit.de/wp-content/uploads/2026/04
 /Spielenachmittag-ANNA_Ohnealles.jpg
CATEGORIES:Kaffeeklatsch,Senioren,Spiele
LOCATION:Treffpunkt "ANNA"\, Annaberger Str. 171d\, Chemnitz\, 09120\, Sach
 sen\, Germany
X-APPLE-STRUCTURED-LOCATION;VALUE=URI;X-ADDRESS=Annaberger Str. 171d\, Chem
 nitz\, 09120\, Sachsen\, Germany;X-APPLE-RADIUS=100;X-TITLE=Treffpunkt \"A
 NNA\":geo:0,0
END:VEVENT
BEGIN:VTIMEZONE
TZID:Europe/Berlin
X-LIC-LOCATION:Europe/Berlin
BEGIN:DAYLIGHT
DTSTART:20260329T030000
TZOFFSETFROM:+0100
TZOFFSETTO:+0200
TZNAME:CEST
END:DAYLIGHT
END:VTIMEZONE
END:VCALENDAR