BEGIN:VCALENDAR
VERSION:2.0
PRODID:-//wp-events-plugin.com//7.2.3.1//EN
BEGIN:VEVENT
UID:233@wg-einheit.de
DTSTART;TZID=Europe/Berlin:20260720T140000
DTEND;TZID=Europe/Berlin:20260720T180000
DTSTAMP:20260422T080559Z
URL:https://wg-einheit.de/veranstaltungen/skatnachmittag-2-2026-07-20/
SUMMARY:Skatnachmittag
DESCRIPTION:Skatspielen als Leidenschaft?\n\nWir suchen neue Mitspieler! Ge
 rn gesehen sind auch interessierte Frauen als Mitspielerinnen.
ATTACH;FMTTYPE=image/jpeg:https://wg-einheit.de/wp-content/uploads/2025/10
 /Frauenskatrunde.jpg
CATEGORIES:Skat,Spiele
LOCATION:WG “EINHEIT” eG Chemnitz\, Otto-Hofmann-Straße 19\, Chemnitz\
 , 09122\, Deutschland
X-APPLE-STRUCTURED-LOCATION;VALUE=URI;X-ADDRESS=Otto-Hofmann-Straße 19\, C
 hemnitz\, 09122\, Deutschland;X-APPLE-RADIUS=100;X-TITLE=WG “EINHEIT” 
 eG Chemnitz:geo:0,0
END:VEVENT
BEGIN:VTIMEZONE
TZID:Europe/Berlin
X-LIC-LOCATION:Europe/Berlin
BEGIN:DAYLIGHT
DTSTART:20260329T030000
TZOFFSETFROM:+0100
TZOFFSETTO:+0200
TZNAME:CEST
END:DAYLIGHT
END:VTIMEZONE
END:VCALENDAR