BEGIN:VCALENDAR
VERSION:2.0
PRODID:-//wp-events-plugin.com//7.2.3.1//EN
BEGIN:VEVENT
UID:288@wg-einheit.de
DTSTART;TZID=Europe/Berlin:20260829T140000
DTEND;TZID=Europe/Berlin:20260829T220000
DTSTAMP:20260408T133405Z
URL:https://wg-einheit.de/veranstaltungen/wg-einheit-sommerfest/
SUMMARY:WG "EINHEIT" Sommerfest
DESCRIPTION:Sommer\, Gemeinschaft und gute Laune:\n\nUnser großes Sommerfe
 st für die ganze Familie bietet Unterhaltung\, Musik und viele Highlights
  für Groß und Klein.\n\nKommt vorbei und feiert mit uns!
ATTACH;FMTTYPE=image/jpeg:https://wg-einheit.de/wp-content/uploads/2026/02
 /Sommerfest2023-5-scaled.jpg
CATEGORIES:Highlights
LOCATION:Markersdorfer Oase\, Wolgograder Allee 27\, Chemnitz\, 09123\, Deu
 tschland
X-APPLE-STRUCTURED-LOCATION;VALUE=URI;X-ADDRESS=Wolgograder Allee 27\, Chem
 nitz\, 09123\, Deutschland;X-APPLE-RADIUS=100;X-TITLE=Markersdorfer Oase:g
 eo:0,0
END:VEVENT
BEGIN:VTIMEZONE
TZID:Europe/Berlin
X-LIC-LOCATION:Europe/Berlin
BEGIN:DAYLIGHT
DTSTART:20260329T030000
TZOFFSETFROM:+0100
TZOFFSETTO:+0200
TZNAME:CEST
END:DAYLIGHT
END:VTIMEZONE
END:VCALENDAR